BEGIN:VCALENDAR
VERSION:2.0
PRODID:-//Kölner Wein Depot - ECPv6.15.11//NONSGML v1.0//EN
CALSCALE:GREGORIAN
METHOD:PUBLISH
X-ORIGINAL-URL:https://www.koelnerweindepot.de
X-WR-CALDESC:Veranstaltungen für Kölner Wein Depot
REFRESH-INTERVAL;VALUE=DURATION:PT1H
X-Robots-Tag:noindex
X-PUBLISHED-TTL:PT1H
BEGIN:VTIMEZONE
TZID:Europe/Paris
BEGIN:DAYLIGHT
TZOFFSETFROM:+0100
TZOFFSETTO:+0200
TZNAME:CEST
DTSTART:20240331T010000
END:DAYLIGHT
BEGIN:STANDARD
TZOFFSETFROM:+0200
TZOFFSETTO:+0100
TZNAME:CET
DTSTART:20241027T010000
END:STANDARD
BEGIN:DAYLIGHT
TZOFFSETFROM:+0100
TZOFFSETTO:+0200
TZNAME:CEST
DTSTART:20250330T010000
END:DAYLIGHT
BEGIN:STANDARD
TZOFFSETFROM:+0200
TZOFFSETTO:+0100
TZNAME:CET
DTSTART:20251026T010000
END:STANDARD
BEGIN:DAYLIGHT
TZOFFSETFROM:+0100
TZOFFSETTO:+0200
TZNAME:CEST
DTSTART:20260329T010000
END:DAYLIGHT
BEGIN:STANDARD
TZOFFSETFROM:+0200
TZOFFSETTO:+0100
TZNAME:CET
DTSTART:20261025T010000
END:STANDARD
END:VTIMEZONE
BEGIN:VEVENT
DTSTART;TZID=Europe/Paris:20250502T130000
DTEND;TZID=Europe/Paris:20250502T184500
DTSTAMP:20260423T005253
CREATED:20250408T134217Z
LAST-MODIFIED:20250408T134217Z
UID:10000739-1746190800-1746211500@www.koelnerweindepot.de
SUMMARY:La Legua + Hnos. Del Villar + Rejadorada + Otero
DESCRIPTION:Castilla y León von den besten Seiten
URL:https://www.koelnerweindepot.de/event/la-legua-hnos-del-villar-rejadorada-otero-4/
LOCATION:Verkostungszone KWD
END:VEVENT
BEGIN:VEVENT
DTSTART;TZID=Europe/Paris:20250503T103000
DTEND;TZID=Europe/Paris:20250503T134500
DTSTAMP:20260423T005253
CREATED:20250408T134217Z
LAST-MODIFIED:20250408T134217Z
UID:10000741-1746268200-1746279900@www.koelnerweindepot.de
SUMMARY:La Legua + Hnos. Del Villar + Rejadorada + Otero
DESCRIPTION:Castilla y León von den besten Seiten
URL:https://www.koelnerweindepot.de/event/la-legua-hnos-del-villar-rejadorada-otero-5/
LOCATION:Verkostungszone KWD
END:VEVENT
BEGIN:VEVENT
DTSTART;TZID=Europe/Paris:20250508T130000
DTEND;TZID=Europe/Paris:20250508T184500
DTSTAMP:20260423T005253
CREATED:20250408T134217Z
LAST-MODIFIED:20250408T134217Z
UID:10000743-1746709200-1746729900@www.koelnerweindepot.de
SUMMARY:Hirschhof
DESCRIPTION:Die Familie Zimmer kann zu den führenden Bio-Weinbau Pionieren in Rheinhessen gezählt werden
URL:https://www.koelnerweindepot.de/event/hirschhof/
LOCATION:Verkostungszone KWD
END:VEVENT
BEGIN:VEVENT
DTSTART;TZID=Europe/Paris:20250509T130000
DTEND;TZID=Europe/Paris:20250509T184500
DTSTAMP:20260423T005253
CREATED:20250408T134218Z
LAST-MODIFIED:20250408T134218Z
UID:10000745-1746795600-1746816300@www.koelnerweindepot.de
SUMMARY:Hirschhof
DESCRIPTION:Die Familie Zimmer kann zu den führenden Bio-Weinbau Pionieren in Rheinhessen gezählt werden
URL:https://www.koelnerweindepot.de/event/hirschhof-2/
LOCATION:Verkostungszone KWD
END:VEVENT
BEGIN:VEVENT
DTSTART;TZID=Europe/Paris:20250510T103000
DTEND;TZID=Europe/Paris:20250510T134500
DTSTAMP:20260423T005253
CREATED:20250408T134232Z
LAST-MODIFIED:20250408T134232Z
UID:10000747-1746873000-1746884700@www.koelnerweindepot.de
SUMMARY:Hirschhof
DESCRIPTION:Die Familie Zimmer kann zu den führenden Bio-Weinbau Pionieren in Rheinhessen gezählt werden
URL:https://www.koelnerweindepot.de/event/hirschhof-3/
LOCATION:Verkostungszone KWD
END:VEVENT
BEGIN:VEVENT
DTSTART;TZID=Europe/Paris:20250515T130000
DTEND;TZID=Europe/Paris:20250515T184500
DTSTAMP:20260423T005253
CREATED:20250408T134232Z
LAST-MODIFIED:20250408T134232Z
UID:10000749-1747314000-1747334700@www.koelnerweindepot.de
SUMMARY:Selbach-Oster + Griechenland
DESCRIPTION:mit Winzerin Frau Barbara Selbach: Das Weingut Selbach Oster mit seinen klassischen Rieslingen gehört seit Jahren zu den Spitzen-Weingütern an der Mosel
URL:https://www.koelnerweindepot.de/event/selbach-oster-griechenland-4/
LOCATION:Verkostungszone KWD
END:VEVENT
BEGIN:VEVENT
DTSTART;TZID=Europe/Paris:20250516T130000
DTEND;TZID=Europe/Paris:20250516T184500
DTSTAMP:20260423T005253
CREATED:20250408T134232Z
LAST-MODIFIED:20250408T134232Z
UID:10000751-1747400400-1747421100@www.koelnerweindepot.de
SUMMARY:Selbach-Oster + Griechenland
DESCRIPTION:mit Winzerin Frau Barbara Selbach: Das Weingut Selbach Oster mit seinen klassischen Rieslingen gehört seit Jahren zu den Spitzen-Weingütern an der Mosel
URL:https://www.koelnerweindepot.de/event/selbach-oster-griechenland-5/
LOCATION:Verkostungszone KWD
END:VEVENT
BEGIN:VEVENT
DTSTART;TZID=Europe/Paris:20250517T103000
DTEND;TZID=Europe/Paris:20250517T134500
DTSTAMP:20260423T005253
CREATED:20250408T134232Z
LAST-MODIFIED:20250408T134232Z
UID:10000753-1747477800-1747489500@www.koelnerweindepot.de
SUMMARY:Selbach-Oster + Griechenland
DESCRIPTION:mit Winzerin Frau Barbara Selbach: Das Weingut Selbach Oster mit seinen klassischen Rieslingen gehört seit Jahren zu den Spitzen-Weingütern an der Mosel
URL:https://www.koelnerweindepot.de/event/selbach-oster-griechenland-6/
LOCATION:Verkostungszone KWD
END:VEVENT
BEGIN:VEVENT
DTSTART;TZID=Europe/Paris:20250522T130000
DTEND;TZID=Europe/Paris:20250522T184500
DTSTAMP:20260423T005253
CREATED:20250408T134233Z
LAST-MODIFIED:20250408T134233Z
UID:10000755-1747918800-1747939500@www.koelnerweindepot.de
SUMMARY:Weingut Mathern + Grézan
DESCRIPTION:Weine von Spitzenlagen der Nahe mit toller Mineralität + Chateau Grézan eine Familie …ein Schloss…eine Geschichte….und gute Weine
URL:https://www.koelnerweindepot.de/event/weingut-mathern-grezan/
LOCATION:Verkostungszone KWD
END:VEVENT
BEGIN:VEVENT
DTSTART;TZID=Europe/Paris:20250523T130000
DTEND;TZID=Europe/Paris:20250523T184500
DTSTAMP:20260423T005253
CREATED:20250408T134246Z
LAST-MODIFIED:20250408T134246Z
UID:10000757-1748005200-1748025900@www.koelnerweindepot.de
SUMMARY:Weingut Mathern + Grézan
DESCRIPTION:Weine von Spitzenlagen der Nahe mit toller Mineralität + Chateau Grézan eine Familie …ein Schloss…eine Geschichte….und gute Weine
URL:https://www.koelnerweindepot.de/event/weingut-mathern-grezan-2/
LOCATION:Verkostungszone KWD
END:VEVENT
BEGIN:VEVENT
DTSTART;TZID=Europe/Paris:20250524T103000
DTEND;TZID=Europe/Paris:20250524T134500
DTSTAMP:20260423T005253
CREATED:20250408T134247Z
LAST-MODIFIED:20250408T134247Z
UID:10000759-1748082600-1748094300@www.koelnerweindepot.de
SUMMARY:Weingut Mathern + Grézan
DESCRIPTION:Weine von Spitzenlagen der Nahe mit toller Mineralität + Chateau Grézan eine Familie …ein Schloss…eine Geschichte….und gute Weine
URL:https://www.koelnerweindepot.de/event/weingut-mathern-grezan-3/
LOCATION:Verkostungszone KWD
END:VEVENT
BEGIN:VEVENT
DTSTART;TZID=Europe/Paris:20250530T130000
DTEND;TZID=Europe/Paris:20250530T184500
DTSTAMP:20260423T005253
CREATED:20250408T134247Z
LAST-MODIFIED:20250408T134247Z
UID:10000761-1748610000-1748630700@www.koelnerweindepot.de
SUMMARY:WG Krems + WG Neckenmarkt
DESCRIPTION:Zwei Spitzengenossenschaften aus Österreich mit vielen Auszeichnungen
URL:https://www.koelnerweindepot.de/event/wg-krems-wg-neckenmarkt-4/
LOCATION:Verkostungszone KWD
END:VEVENT
BEGIN:VEVENT
DTSTART;TZID=Europe/Paris:20250531T103000
DTEND;TZID=Europe/Paris:20250531T134500
DTSTAMP:20260423T005253
CREATED:20250408T134247Z
LAST-MODIFIED:20250408T134247Z
UID:10000763-1748687400-1748699100@www.koelnerweindepot.de
SUMMARY:WG Krems + WG Neckenmarkt
DESCRIPTION:Zwei Spitzengenossenschaften aus Österreich mit vielen Auszeichnungen
URL:https://www.koelnerweindepot.de/event/wg-krems-wg-neckenmarkt-5/
LOCATION:Verkostungszone KWD
END:VEVENT
END:VCALENDAR