BEGIN:VCALENDAR
VERSION:2.0
PRODID:-//Kölner Wein Depot - ECPv6.15.11//NONSGML v1.0//EN
CALSCALE:GREGORIAN
METHOD:PUBLISH
X-ORIGINAL-URL:https://www.koelnerweindepot.de
X-WR-CALDESC:Veranstaltungen für Kölner Wein Depot
REFRESH-INTERVAL;VALUE=DURATION:PT1H
X-Robots-Tag:noindex
X-PUBLISHED-TTL:PT1H
BEGIN:VTIMEZONE
TZID:Europe/Paris
BEGIN:DAYLIGHT
TZOFFSETFROM:+0100
TZOFFSETTO:+0200
TZNAME:CEST
DTSTART:20240331T010000
END:DAYLIGHT
BEGIN:STANDARD
TZOFFSETFROM:+0200
TZOFFSETTO:+0100
TZNAME:CET
DTSTART:20241027T010000
END:STANDARD
BEGIN:DAYLIGHT
TZOFFSETFROM:+0100
TZOFFSETTO:+0200
TZNAME:CEST
DTSTART:20250330T010000
END:DAYLIGHT
BEGIN:STANDARD
TZOFFSETFROM:+0200
TZOFFSETTO:+0100
TZNAME:CET
DTSTART:20251026T010000
END:STANDARD
BEGIN:DAYLIGHT
TZOFFSETFROM:+0100
TZOFFSETTO:+0200
TZNAME:CEST
DTSTART:20260329T010000
END:DAYLIGHT
BEGIN:STANDARD
TZOFFSETFROM:+0200
TZOFFSETTO:+0100
TZNAME:CET
DTSTART:20261025T010000
END:STANDARD
END:VTIMEZONE
BEGIN:VEVENT
DTSTART;TZID=Europe/Paris:20251009T130000
DTEND;TZID=Europe/Paris:20251009T184500
DTSTAMP:20260423T235035
CREATED:20250408T134525Z
LAST-MODIFIED:20250408T134525Z
UID:10000845-1760014800-1760035500@www.koelnerweindepot.de
SUMMARY:Weingut Dautel +Bodegas Alvia
DESCRIPTION:Dautel ‚Deutschlands beste Rotweinkollektion‘ lt. Eichelmann2023 + sowohl die klassische Linie Mileto als auch das Premium Sortiment Livius überzeugen
URL:https://www.koelnerweindepot.de/event/weingut-dautel-bodegas-alvia-4/
LOCATION:Verkostungszone KWD
END:VEVENT
BEGIN:VEVENT
DTSTART;TZID=Europe/Paris:20251010T130000
DTEND;TZID=Europe/Paris:20251010T184500
DTSTAMP:20260423T235035
CREATED:20250408T134540Z
LAST-MODIFIED:20250408T134540Z
UID:10000847-1760101200-1760121900@www.koelnerweindepot.de
SUMMARY:Weingut Dautel +Bodegas Alvia
DESCRIPTION:Dautel Deutschlands beste Rotweinkollektion‘ lt. Eichelmann2023 + sowohl die klassische Linie Mileto als auch das Premium Sortiment Livius überzeugen
URL:https://www.koelnerweindepot.de/event/weingut-dautel-bodegas-alvia-5/
LOCATION:Verkostungszone KWD
END:VEVENT
BEGIN:VEVENT
DTSTART;TZID=Europe/Paris:20251011T103000
DTEND;TZID=Europe/Paris:20251011T134500
DTSTAMP:20260423T235035
CREATED:20250408T134540Z
LAST-MODIFIED:20250408T134540Z
UID:10000849-1760178600-1760190300@www.koelnerweindepot.de
SUMMARY:Weingut Dautel +Bodegas Alvia
DESCRIPTION:Dautel ‚Deutschlands beste Rotweinkollektion‘ lt. Eichelmann2023 + sowohl die klassische Linie Mileto als auch das Premium Sortiment Livius überzeugen
URL:https://www.koelnerweindepot.de/event/weingut-dautel-bodegas-alvia-6/
LOCATION:Verkostungszone KWD
END:VEVENT
BEGIN:VEVENT
DTSTART;TZID=Europe/Paris:20251016T130000
DTEND;TZID=Europe/Paris:20251016T184500
DTSTAMP:20260423T235035
CREATED:20250408T134540Z
LAST-MODIFIED:20250408T134540Z
UID:10000851-1760619600-1760640300@www.koelnerweindepot.de
SUMMARY:Rocca delle macie
DESCRIPTION:das Chianti Classico-Weingut mit befreundeten Winzern aus Montalcino /der Maremma / Apulien / Umbrien / Kampanien
URL:https://www.koelnerweindepot.de/event/rocca-delle-macie-4/
LOCATION:Verkostungszone KWD
END:VEVENT
BEGIN:VEVENT
DTSTART;TZID=Europe/Paris:20251017T130000
DTEND;TZID=Europe/Paris:20251017T184500
DTSTAMP:20260423T235035
CREATED:20250408T134541Z
LAST-MODIFIED:20250408T134541Z
UID:10000853-1760706000-1760726700@www.koelnerweindepot.de
SUMMARY:Rocca delle macie
DESCRIPTION:das Chianti Classico-Weingut mit befreundeten Winzern aus Montalcino /der Maremma / Apulien / Umbrien / Kampanien
URL:https://www.koelnerweindepot.de/event/rocca-delle-macie-5/
LOCATION:Verkostungszone KWD
END:VEVENT
BEGIN:VEVENT
DTSTART;TZID=Europe/Paris:20251018T103000
DTEND;TZID=Europe/Paris:20251018T134500
DTSTAMP:20260423T235035
CREATED:20250408T134541Z
LAST-MODIFIED:20250408T134541Z
UID:10000855-1760783400-1760795100@www.koelnerweindepot.de
SUMMARY:Rocca delle macie
DESCRIPTION:das Chianti Classico-Weingut mit befreundeten Winzern aus Montalcino /der Maremma / Apulien / Umbrien / Kampanien
URL:https://www.koelnerweindepot.de/event/rocca-delle-macie-6/
LOCATION:Verkostungszone KWD
END:VEVENT
BEGIN:VEVENT
DTSTART;TZID=Europe/Paris:20251023T130000
DTEND;TZID=Europe/Paris:20251023T184500
DTSTAMP:20260423T235035
CREATED:20250408T134554Z
LAST-MODIFIED:20250408T134554Z
UID:10000857-1761224400-1761245100@www.koelnerweindepot.de
SUMMARY:Tamaral + Cava + Son Puig
DESCRIPTION:Die Bodega erreichte höchste Auszeichnungen und ist ein Geheimtip für sehr gute Weine aus dem Ribera del Duero
URL:https://www.koelnerweindepot.de/event/tamaral-cava-son-puig/
LOCATION:Verkostungszone KWD
END:VEVENT
BEGIN:VEVENT
DTSTART;TZID=Europe/Paris:20251024T130000
DTEND;TZID=Europe/Paris:20251024T184500
DTSTAMP:20260423T235035
CREATED:20250408T134554Z
LAST-MODIFIED:20250408T134554Z
UID:10000859-1761310800-1761331500@www.koelnerweindepot.de
SUMMARY:Tamaral + Cava + Son Puig
DESCRIPTION:Die Bodega erreichte höchste Auszeichnungen und ist ein Geheimtip für sehr gute Weine aus dem Ribera del Duero
URL:https://www.koelnerweindepot.de/event/tamaral-cava-son-puig-2/
LOCATION:Verkostungszone KWD
END:VEVENT
BEGIN:VEVENT
DTSTART;TZID=Europe/Paris:20251025T103000
DTEND;TZID=Europe/Paris:20251025T134500
DTSTAMP:20260423T235035
CREATED:20250408T134555Z
LAST-MODIFIED:20250408T134555Z
UID:10000861-1761388200-1761399900@www.koelnerweindepot.de
SUMMARY:Tamaral + Cava + Son Puig
DESCRIPTION:Die Bodega erreichte höchste Auszeichnungen und ist ein Geheimtip für sehr gute Weine aus dem Ribera del Duero
URL:https://www.koelnerweindepot.de/event/tamaral-cava-son-puig-3/
LOCATION:Verkostungszone KWD
END:VEVENT
BEGIN:VEVENT
DTSTART;TZID=Europe/Paris:20251030T130000
DTEND;TZID=Europe/Paris:20251030T184500
DTSTAMP:20260423T235035
CREATED:20250408T134555Z
LAST-MODIFIED:20250408T134555Z
UID:10000863-1761829200-1761849900@www.koelnerweindepot.de
SUMMARY:K.Pfaffmann + Valderivero + Faustino Rivero Ulecia + Marques del Atrio
DESCRIPTION:Spanien mit sehr guten Preis/Genussverhältnis
URL:https://www.koelnerweindepot.de/event/k-pfaffmann-valderivero-faustino-rivero-ulecia-marques-del-atrio/
LOCATION:Verkostungszone KWD
END:VEVENT
BEGIN:VEVENT
DTSTART;TZID=Europe/Paris:20251031T130000
DTEND;TZID=Europe/Paris:20251031T184500
DTSTAMP:20260423T235035
CREATED:20250408T134555Z
LAST-MODIFIED:20250408T134555Z
UID:10000865-1761915600-1761936300@www.koelnerweindepot.de
SUMMARY:K.Pfaffmann + Valderivero + Faustino Rivero Ulecia + Marques del Atrio
DESCRIPTION:Spanien mit sehr guten Preis/Genussverhältnis
URL:https://www.koelnerweindepot.de/event/k-pfaffmann-valderivero-faustino-rivero-ulecia-marques-del-atrio-2/
LOCATION:Verkostungszone KWD
END:VEVENT
END:VCALENDAR