BEGIN:VCALENDAR
VERSION:2.0
PRODID:-//Kölner Wein Depot - ECPv6.15.11//NONSGML v1.0//EN
CALSCALE:GREGORIAN
METHOD:PUBLISH
X-ORIGINAL-URL:https://www.koelnerweindepot.de
X-WR-CALDESC:Veranstaltungen für Kölner Wein Depot
REFRESH-INTERVAL;VALUE=DURATION:PT1H
X-Robots-Tag:noindex
X-PUBLISHED-TTL:PT1H
BEGIN:VTIMEZONE
TZID:Europe/Paris
BEGIN:DAYLIGHT
TZOFFSETFROM:+0100
TZOFFSETTO:+0200
TZNAME:CEST
DTSTART:20250330T010000
END:DAYLIGHT
BEGIN:STANDARD
TZOFFSETFROM:+0200
TZOFFSETTO:+0100
TZNAME:CET
DTSTART:20251026T010000
END:STANDARD
BEGIN:DAYLIGHT
TZOFFSETFROM:+0100
TZOFFSETTO:+0200
TZNAME:CEST
DTSTART:20260329T010000
END:DAYLIGHT
BEGIN:STANDARD
TZOFFSETFROM:+0200
TZOFFSETTO:+0100
TZNAME:CET
DTSTART:20261025T010000
END:STANDARD
BEGIN:DAYLIGHT
TZOFFSETFROM:+0100
TZOFFSETTO:+0200
TZNAME:CEST
DTSTART:20270328T010000
END:DAYLIGHT
BEGIN:STANDARD
TZOFFSETFROM:+0200
TZOFFSETTO:+0100
TZNAME:CET
DTSTART:20271031T010000
END:STANDARD
END:VTIMEZONE
BEGIN:VEVENT
DTSTART;TZID=Europe/Paris:20260605T130000
DTEND;TZID=Europe/Paris:20260605T184500
DTSTAMP:20260425T025353
CREATED:20251218T164820Z
LAST-MODIFIED:20251218T164820Z
UID:10000959-1780664400-1780685100@www.koelnerweindepot.de
SUMMARY:Blees-Ferber
DESCRIPTION:mit Stefan Blees : Sein 20er Piesporter Gärtchen gehört zu den besten Weinen Deutschlands(Gault Millau)
URL:https://www.koelnerweindepot.de/event/blees-ferber-3/
LOCATION:Verkostungszone KWD
END:VEVENT
BEGIN:VEVENT
DTSTART;TZID=Europe/Paris:20260606T103000
DTEND;TZID=Europe/Paris:20260606T134500
DTSTAMP:20260425T025353
CREATED:20251218T164821Z
LAST-MODIFIED:20251218T164821Z
UID:10000960-1780741800-1780753500@www.koelnerweindepot.de
SUMMARY:Blees-Ferber
DESCRIPTION:mit Stefan Blees : Sein 20er Piesporter Gärtchen gehört zu den besten Weinen Deutschlands(Gault Millau)
URL:https://www.koelnerweindepot.de/event/blees-ferber-4/
LOCATION:Verkostungszone KWD
END:VEVENT
BEGIN:VEVENT
DTSTART;TZID=Europe/Paris:20260611T130000
DTEND;TZID=Europe/Paris:20260611T184500
DTSTAMP:20260425T025353
CREATED:20251218T164821Z
LAST-MODIFIED:20251218T164821Z
UID:10000961-1781182800-1781203500@www.koelnerweindepot.de
SUMMARY:Livon \, Borgo Salcetino\, Colsanto\, TASCA
DESCRIPTION:
URL:https://www.koelnerweindepot.de/event/livon-borgo-salcetino-colsanto-tasca/
LOCATION:Verkostungszone KWD
END:VEVENT
BEGIN:VEVENT
DTSTART;TZID=Europe/Paris:20260612T130000
DTEND;TZID=Europe/Paris:20260612T184500
DTSTAMP:20260425T025353
CREATED:20251218T164822Z
LAST-MODIFIED:20251218T164822Z
UID:10000962-1781269200-1781289900@www.koelnerweindepot.de
SUMMARY:Livon \, Borgo Salcetino\, Colsanto\, TASCA
DESCRIPTION:
URL:https://www.koelnerweindepot.de/event/livon-borgo-salcetino-colsanto-tasca-2/
LOCATION:Verkostungszone KWD
END:VEVENT
BEGIN:VEVENT
DTSTART;TZID=Europe/Paris:20260613T103000
DTEND;TZID=Europe/Paris:20260613T134500
DTSTAMP:20260425T025353
CREATED:20251218T164822Z
LAST-MODIFIED:20251218T164822Z
UID:10000963-1781346600-1781358300@www.koelnerweindepot.de
SUMMARY:Livon \, Borgo Salcetino\, Colsanto\, TASCA
DESCRIPTION:
URL:https://www.koelnerweindepot.de/event/livon-borgo-salcetino-colsanto-tasca-3/
LOCATION:Verkostungszone KWD
END:VEVENT
BEGIN:VEVENT
DTSTART;TZID=Europe/Paris:20260618T130000
DTEND;TZID=Europe/Paris:20260618T184500
DTSTAMP:20260425T025353
CREATED:20251218T164823Z
LAST-MODIFIED:20251218T164823Z
UID:10000964-1781787600-1781808300@www.koelnerweindepot.de
SUMMARY:Saraja + Schumann
DESCRIPTION:Ein überzeugendes sardisches Sortiment und Neuheiten aus Baden
URL:https://www.koelnerweindepot.de/event/saraja-schumann/
LOCATION:Verkostungszone KWD
END:VEVENT
BEGIN:VEVENT
DTSTART;TZID=Europe/Paris:20260619T130000
DTEND;TZID=Europe/Paris:20260619T184500
DTSTAMP:20260425T025353
CREATED:20251218T164823Z
LAST-MODIFIED:20251218T164823Z
UID:10000965-1781874000-1781894700@www.koelnerweindepot.de
SUMMARY:Saraja + Schumann
DESCRIPTION:Ein überzeugendes sardisches Sortiment und Neuheiten aus Baden
URL:https://www.koelnerweindepot.de/event/saraja-schumann-2/
LOCATION:Verkostungszone KWD
END:VEVENT
BEGIN:VEVENT
DTSTART;TZID=Europe/Paris:20260620T103000
DTEND;TZID=Europe/Paris:20260620T134500
DTSTAMP:20260425T025353
CREATED:20251218T164823Z
LAST-MODIFIED:20251218T164823Z
UID:10000966-1781951400-1781963100@www.koelnerweindepot.de
SUMMARY:Saraja + Schumann
DESCRIPTION:Ein überzeugendes sardisches Sortiment und Neuheiten aus Baden
URL:https://www.koelnerweindepot.de/event/saraja-schumann-3/
LOCATION:Verkostungszone KWD
END:VEVENT
BEGIN:VEVENT
DTSTART;TZID=Europe/Paris:20260625T130000
DTEND;TZID=Europe/Paris:20260625T184500
DTSTAMP:20260425T025353
CREATED:20251218T164824Z
LAST-MODIFIED:20251218T164824Z
UID:10000967-1782392400-1782413100@www.koelnerweindepot.de
SUMMARY:Hirschhof
DESCRIPTION:Die Familie Zimmer kann zu den führenden Bio-Weinbau Pionieren in Rheinhessen gezählt werden
URL:https://www.koelnerweindepot.de/event/hirschhof-4/
LOCATION:Verkostungszone KWD
END:VEVENT
BEGIN:VEVENT
DTSTART;TZID=Europe/Paris:20260626T130000
DTEND;TZID=Europe/Paris:20260626T184500
DTSTAMP:20260425T025353
CREATED:20251218T164825Z
LAST-MODIFIED:20251218T164825Z
UID:10000968-1782478800-1782499500@www.koelnerweindepot.de
SUMMARY:Hirschhof
DESCRIPTION:Die Familie Zimmer kann zu den führenden Bio-Weinbau Pionieren in Rheinhessen gezählt werden
URL:https://www.koelnerweindepot.de/event/hirschhof-5/
LOCATION:Verkostungszone KWD
END:VEVENT
BEGIN:VEVENT
DTSTART;TZID=Europe/Paris:20260627T103000
DTEND;TZID=Europe/Paris:20260627T134500
DTSTAMP:20260425T025353
CREATED:20251218T164825Z
LAST-MODIFIED:20251218T164825Z
UID:10000969-1782556200-1782567900@www.koelnerweindepot.de
SUMMARY:Hirschhof
DESCRIPTION:Die Familie Zimmer kann zu den führenden Bio-Weinbau Pionieren in Rheinhessen gezählt werden
URL:https://www.koelnerweindepot.de/event/hirschhof-6/
LOCATION:Verkostungszone KWD
END:VEVENT
END:VCALENDAR