BEGIN:VCALENDAR
VERSION:2.0
PRODID:-//Kölner Wein Depot - ECPv6.15.11//NONSGML v1.0//EN
CALSCALE:GREGORIAN
METHOD:PUBLISH
X-ORIGINAL-URL:https://www.koelnerweindepot.de
X-WR-CALDESC:Veranstaltungen für Kölner Wein Depot
REFRESH-INTERVAL;VALUE=DURATION:PT1H
X-Robots-Tag:noindex
X-PUBLISHED-TTL:PT1H
BEGIN:VTIMEZONE
TZID:Europe/Paris
BEGIN:DAYLIGHT
TZOFFSETFROM:+0100
TZOFFSETTO:+0200
TZNAME:CEST
DTSTART:20240331T010000
END:DAYLIGHT
BEGIN:STANDARD
TZOFFSETFROM:+0200
TZOFFSETTO:+0100
TZNAME:CET
DTSTART:20241027T010000
END:STANDARD
BEGIN:DAYLIGHT
TZOFFSETFROM:+0100
TZOFFSETTO:+0200
TZNAME:CEST
DTSTART:20250330T010000
END:DAYLIGHT
BEGIN:STANDARD
TZOFFSETFROM:+0200
TZOFFSETTO:+0100
TZNAME:CET
DTSTART:20251026T010000
END:STANDARD
BEGIN:DAYLIGHT
TZOFFSETFROM:+0100
TZOFFSETTO:+0200
TZNAME:CEST
DTSTART:20260329T010000
END:DAYLIGHT
BEGIN:STANDARD
TZOFFSETFROM:+0200
TZOFFSETTO:+0100
TZNAME:CET
DTSTART:20261025T010000
END:STANDARD
END:VTIMEZONE
BEGIN:VEVENT
DTSTART;TZID=Europe/Paris:20250731T130000
DTEND;TZID=Europe/Paris:20250731T184500
DTSTAMP:20260419T212338
CREATED:20250408T134403Z
LAST-MODIFIED:20250408T134403Z
UID:10000657-1753966800-1753987500@www.koelnerweindepot.de
SUMMARY:Ellwanger + Selva Capuzza
DESCRIPTION:Remstal
URL:https://www.koelnerweindepot.de/event/ellwanger-selva-capuzza-4/
LOCATION:Verkostungszone KWD
END:VEVENT
BEGIN:VEVENT
DTSTART;TZID=Europe/Paris:20250801T130000
DTEND;TZID=Europe/Paris:20250801T184500
DTSTAMP:20260419T212338
CREATED:20250408T134404Z
LAST-MODIFIED:20250408T134404Z
UID:10000661-1754053200-1754073900@www.koelnerweindepot.de
SUMMARY:Ellwanger + Selva Capuzza
DESCRIPTION:Remstal
URL:https://www.koelnerweindepot.de/event/ellwanger-selva-capuzza-5/
LOCATION:Verkostungszone KWD
END:VEVENT
BEGIN:VEVENT
DTSTART;TZID=Europe/Paris:20250802T103000
DTEND;TZID=Europe/Paris:20250802T134500
DTSTAMP:20260419T212338
CREATED:20250408T134404Z
LAST-MODIFIED:20250408T134404Z
UID:10000665-1754130600-1754142300@www.koelnerweindepot.de
SUMMARY:Ellwanger + Selva Capuzza
DESCRIPTION:Remstal
URL:https://www.koelnerweindepot.de/event/ellwanger-selva-capuzza-6/
LOCATION:Verkostungszone KWD
END:VEVENT
END:VCALENDAR