BEGIN:VCALENDAR
VERSION:2.0
PRODID:-//Kölner Wein Depot - ECPv6.15.11//NONSGML v1.0//EN
CALSCALE:GREGORIAN
METHOD:PUBLISH
X-ORIGINAL-URL:https://www.koelnerweindepot.de
X-WR-CALDESC:Veranstaltungen für Kölner Wein Depot
REFRESH-INTERVAL;VALUE=DURATION:PT1H
X-Robots-Tag:noindex
X-PUBLISHED-TTL:PT1H
BEGIN:VTIMEZONE
TZID:Europe/Paris
BEGIN:DAYLIGHT
TZOFFSETFROM:+0100
TZOFFSETTO:+0200
TZNAME:CEST
DTSTART:20240331T010000
END:DAYLIGHT
BEGIN:STANDARD
TZOFFSETFROM:+0200
TZOFFSETTO:+0100
TZNAME:CET
DTSTART:20241027T010000
END:STANDARD
BEGIN:DAYLIGHT
TZOFFSETFROM:+0100
TZOFFSETTO:+0200
TZNAME:CEST
DTSTART:20250330T010000
END:DAYLIGHT
BEGIN:STANDARD
TZOFFSETFROM:+0200
TZOFFSETTO:+0100
TZNAME:CET
DTSTART:20251026T010000
END:STANDARD
BEGIN:DAYLIGHT
TZOFFSETFROM:+0100
TZOFFSETTO:+0200
TZNAME:CEST
DTSTART:20260329T010000
END:DAYLIGHT
BEGIN:STANDARD
TZOFFSETFROM:+0200
TZOFFSETTO:+0100
TZNAME:CET
DTSTART:20261025T010000
END:STANDARD
END:VTIMEZONE
BEGIN:VEVENT
DTSTART;TZID=Europe/Paris:20250911T130000
DTEND;TZID=Europe/Paris:20250911T184500
DTSTAMP:20260422T040744
CREATED:20250408T134509Z
LAST-MODIFIED:20250408T134509Z
UID:10000827-1757595600-1757616300@www.koelnerweindepot.de
SUMMARY:Bürgerspital + Loacker
DESCRIPTION:Das Bürgerspital über 700 Jahre alt
URL:https://www.koelnerweindepot.de/event/buergerspital-loacker-4/
LOCATION:Verkostungszone KWD
END:VEVENT
BEGIN:VEVENT
DTSTART;TZID=Europe/Paris:20250912T130000
DTEND;TZID=Europe/Paris:20250912T184500
DTSTAMP:20260422T040744
CREATED:20250408T134509Z
LAST-MODIFIED:20250408T134509Z
UID:10000829-1757682000-1757702700@www.koelnerweindepot.de
SUMMARY:Bürgerspital + Loacker
DESCRIPTION:Das Bürgerspital über 700 Jahre alt
URL:https://www.koelnerweindepot.de/event/buergerspital-loacker-5/
LOCATION:Verkostungszone KWD
END:VEVENT
BEGIN:VEVENT
DTSTART;TZID=Europe/Paris:20250913T103000
DTEND;TZID=Europe/Paris:20250913T134500
DTSTAMP:20260422T040744
CREATED:20250408T134510Z
LAST-MODIFIED:20250408T134510Z
UID:10000831-1757759400-1757771100@www.koelnerweindepot.de
SUMMARY:Bürgerspital + Loacker
DESCRIPTION:Das Bürgerspital über 700 Jahre alt
URL:https://www.koelnerweindepot.de/event/buergerspital-loacker-6/
LOCATION:Verkostungszone KWD
END:VEVENT
END:VCALENDAR