BEGIN:VCALENDAR
VERSION:2.0
PRODID:-//Kölner Wein Depot - ECPv6.15.11//NONSGML v1.0//EN
CALSCALE:GREGORIAN
METHOD:PUBLISH
X-ORIGINAL-URL:https://www.koelnerweindepot.de
X-WR-CALDESC:Veranstaltungen für Kölner Wein Depot
REFRESH-INTERVAL;VALUE=DURATION:PT1H
X-Robots-Tag:noindex
X-PUBLISHED-TTL:PT1H
BEGIN:VTIMEZONE
TZID:Europe/Paris
BEGIN:DAYLIGHT
TZOFFSETFROM:+0100
TZOFFSETTO:+0200
TZNAME:CEST
DTSTART:20250330T010000
END:DAYLIGHT
BEGIN:STANDARD
TZOFFSETFROM:+0200
TZOFFSETTO:+0100
TZNAME:CET
DTSTART:20251026T010000
END:STANDARD
BEGIN:DAYLIGHT
TZOFFSETFROM:+0100
TZOFFSETTO:+0200
TZNAME:CEST
DTSTART:20260329T010000
END:DAYLIGHT
BEGIN:STANDARD
TZOFFSETFROM:+0200
TZOFFSETTO:+0100
TZNAME:CET
DTSTART:20261025T010000
END:STANDARD
BEGIN:DAYLIGHT
TZOFFSETFROM:+0100
TZOFFSETTO:+0200
TZNAME:CEST
DTSTART:20270328T010000
END:DAYLIGHT
BEGIN:STANDARD
TZOFFSETFROM:+0200
TZOFFSETTO:+0100
TZNAME:CET
DTSTART:20271031T010000
END:STANDARD
END:VTIMEZONE
BEGIN:VEVENT
DTSTART;TZID=Europe/Paris:20260109T130000
DTEND;TZID=Europe/Paris:20260109T184500
DTSTAMP:20260420T113218
CREATED:20251218T112625Z
LAST-MODIFIED:20251218T164752Z
UID:10000902-1767963600-1767984300@www.koelnerweindepot.de
SUMMARY:DRY JANUARY\, Sparkling Tea\, alkohlfreier Wein und "Sekt"
DESCRIPTION:Wir beginnen unsere Probe entsprechend dem Monats-Motto mit alkoholfreien Getränken
URL:https://www.koelnerweindepot.de/event/dry-january-sparkling-tea-alkohlfreier-wein-und-sekt/
LOCATION:Verkostungszone KWD
END:VEVENT
BEGIN:VEVENT
DTSTART;TZID=Europe/Paris:20260110T103000
DTEND;TZID=Europe/Paris:20260110T134500
DTSTAMP:20260420T113218
CREATED:20251218T112625Z
LAST-MODIFIED:20251218T164752Z
UID:10000903-1768041000-1768052700@www.koelnerweindepot.de
SUMMARY:DRY JANUARY\, Sparkling Tea\, alkohlfreier Wein und "Sekt"
DESCRIPTION:Wir beginnen unsere Probe entsprechend dem Monats-Motto mit alkoholfreien Getränken
URL:https://www.koelnerweindepot.de/event/dry-january-sparkling-tea-alkohlfreier-wein-und-sekt-2/
LOCATION:Verkostungszone KWD
END:VEVENT
END:VCALENDAR